Package: struct Version: 1.12.0 Command: /Library/Frameworks/R.framework/Resources/bin/R CMD build --keep-empty-dirs --no-resave-data struct StartedAt: 2023-10-15 21:44:27 -0400 (Sun, 15 Oct 2023) EndedAt: 2023-10-15 21:45:57 -0400 (Sun, 15 Oct 2023) EllapsedTime: 90.0 seconds RetCode: 0 Status: OK PackageFile: struct_1.12.0.tar.gz PackageFileSize: 595.2 KiB