git_url: https://git.bioconductor.org/packages/staRank
git_branch: RELEASE_3_17
git_last_commit: ea7ac74
git_last_commit_date: 2023-04-25 10:23:06 -0400 (Tue, 25 Apr 2023)
Package: staRank
Version: 1.42.0
Maintainer: Juliane Siebourg
MaintainerEmail: juliane.siebourg at bsse.ethz.ch