Package: ssrch
Version: 1.16.0
Command: /Library/Frameworks/R.framework/Resources/bin/R CMD INSTALL ssrch
StartedAt: 2023-10-15 15:46:32 -0400 (Sun, 15 Oct 2023)
EndedAt: 2023-10-15 15:46:54 -0400 (Sun, 15 Oct 2023)
EllapsedTime: 21.7 seconds
RetCode: 0
Status: OK