Package: ssrch Version: 1.16.0 Command: /Library/Frameworks/R.framework/Resources/bin/R CMD check --install=check:ssrch.install-out.txt --library=/Library/Frameworks/R.framework/Resources/library --no-vignettes --timings ssrch_1.16.0.tar.gz StartedAt: 2023-10-16 07:40:27 -0400 (Mon, 16 Oct 2023) EndedAt: 2023-10-16 07:41:36 -0400 (Mon, 16 Oct 2023) EllapsedTime: 69.2 seconds RetCode: 0 Status: OK CheckDir: ssrch.Rcheck Warnings: 0