Package: ssPATHS Version: 1.14.0 Command: /Library/Frameworks/R.framework/Resources/bin/R CMD check --install=check:ssPATHS.install-out.txt --library=/Library/Frameworks/R.framework/Resources/library --no-vignettes --timings ssPATHS_1.14.0.tar.gz StartedAt: 2023-10-16 07:40:14 -0400 (Mon, 16 Oct 2023) EndedAt: 2023-10-16 07:46:58 -0400 (Mon, 16 Oct 2023) EllapsedTime: 403.8 seconds RetCode: 0 Status: OK CheckDir: ssPATHS.Rcheck Warnings: 0