Package: ssPATHS Version: 1.14.0 Command: /Library/Frameworks/R.framework/Resources/bin/R CMD build --keep-empty-dirs --no-resave-data ssPATHS StartedAt: 2023-10-15 21:41:18 -0400 (Sun, 15 Oct 2023) EndedAt: 2023-10-15 21:42:49 -0400 (Sun, 15 Oct 2023) EllapsedTime: 91.4 seconds RetCode: 0 Status: OK PackageFile: ssPATHS_1.14.0.tar.gz PackageFileSize: 3.672 MiB