git_url: https://git.bioconductor.org/packages/speckle
git_branch: RELEASE_3_17
git_last_commit: ea9dd64
git_last_commit_date: 2023-04-25 11:41:49 -0400 (Tue, 25 Apr 2023)
Package: speckle
Version: 1.0.0
Maintainer: Belinda Phipson
MaintainerEmail: phipson.b at wehi.edu.au