git_url: https://git.bioconductor.org/packages/spatialHeatmap
git_branch: RELEASE_3_17
git_last_commit: 83ed9ad
git_last_commit_date: 2023-08-30 06:13:04 -0400 (Wed, 30 Aug 2023)
Package: spatialHeatmap
Version: 2.6.2
Maintainer: Jianhai Zhang
MaintainerEmail: jzhan067 at ucr.edu