git_url: https://git.bioconductor.org/packages/snpStats
git_branch: RELEASE_3_17
git_last_commit: b6d42f9
git_last_commit_date: 2023-04-25 09:46:27 -0400 (Tue, 25 Apr 2023)
Package: snpStats
Version: 1.50.0
Maintainer: David Clayton
MaintainerEmail: dc208 at cam.ac.uk