git_url: https://git.bioconductor.org/packages/sigsquared
git_branch: RELEASE_3_17
git_last_commit: 0de40af
git_last_commit_date: 2023-04-25 10:37:49 -0400 (Tue, 25 Apr 2023)
Package: sigsquared
Version: 1.32.0
Maintainer: UnJin Lee
MaintainerEmail: unjin at uchicago.edu