Package: signatureSearch Version: 1.14.0 Command: F:\biocbuild\bbs-3.17-bioc\R\bin\R.exe CMD INSTALL signatureSearch StartedAt: 2023-10-15 17:02:34 -0400 (Sun, 15 Oct 2023) EndedAt: 2023-10-15 17:05:53 -0400 (Sun, 15 Oct 2023) EllapsedTime: 198.5 seconds RetCode: 0 Status: OK