Package: signatureSearch Version: 1.14.0 Command: F:\biocbuild\bbs-3.17-bioc\R\bin\R.exe CMD check --no-multiarch --install=check:signatureSearch.install-out.txt --library=F:\biocbuild\bbs-3.17-bioc\R\library --no-vignettes --timings signatureSearch_1.14.0.tar.gz StartedAt: 2023-10-16 06:51:23 -0400 (Mon, 16 Oct 2023) EndedAt: 2023-10-16 06:59:49 -0400 (Mon, 16 Oct 2023) EllapsedTime: 505.4 seconds RetCode: 0 Status: OK CheckDir: signatureSearch.Rcheck Warnings: 0