Package: signatureSearch Version: 1.14.0 Command: chmod a+r signatureSearch -R && F:\biocbuild\bbs-3.17-bioc\R\bin\R.exe CMD build --keep-empty-dirs --no-resave-data signatureSearch StartedAt: 2023-10-15 22:23:45 -0400 (Sun, 15 Oct 2023) EndedAt: 2023-10-15 22:32:16 -0400 (Sun, 15 Oct 2023) EllapsedTime: 511.4 seconds RetCode: 0 Status: OK PackageFile: signatureSearch_1.14.0.tar.gz PackageFileSize: 4.864 MiB