Package: signatureSearch Version: 1.14.0 Command: /Library/Frameworks/R.framework/Resources/bin/R CMD check --install=check:signatureSearch.install-out.txt --library=/Library/Frameworks/R.framework/Resources/library --no-vignettes --timings signatureSearch_1.14.0.tar.gz StartedAt: 2023-10-16 07:09:06 -0400 (Mon, 16 Oct 2023) EndedAt: 2023-10-16 07:25:14 -0400 (Mon, 16 Oct 2023) EllapsedTime: 968.7 seconds RetCode: 1 Status: ERROR CheckDir: signatureSearch.Rcheck Warnings: NA