git_url: https://git.bioconductor.org/packages/shinyMethyl
git_branch: RELEASE_3_17
git_last_commit: 828c7f5
git_last_commit_date: 2023-09-07 12:28:15 -0400 (Thu, 07 Sep 2023)
Package: shinyMethyl
Version: 1.36.1
Maintainer: Jean-Philippe Fortin
MaintainerEmail: fortin946 at gmail.com