git_url: https://git.bioconductor.org/packages/seqLogo
git_branch: RELEASE_3_17
git_last_commit: 6214c17
git_last_commit_date: 2023-04-25 09:44:54 -0400 (Tue, 25 Apr 2023)
Package: seqLogo
Version: 1.66.0
Maintainer: Robert Ivanek
MaintainerEmail: robert.ivanek at unibas.ch