Package: selectKSigs Version: 1.12.0 Command: F:\biocbuild\bbs-3.17-bioc\R\bin\R.exe CMD check --no-multiarch --install=check:selectKSigs.install-out.txt --library=F:\biocbuild\bbs-3.17-bioc\R\library --no-vignettes --timings selectKSigs_1.12.0.tar.gz StartedAt: 2023-10-16 06:42:46 -0400 (Mon, 16 Oct 2023) EndedAt: 2023-10-16 06:44:45 -0400 (Mon, 16 Oct 2023) EllapsedTime: 118.3 seconds RetCode: 0 Status: OK CheckDir: selectKSigs.Rcheck Warnings: 0