Package: sechm Version: 1.8.0 Command: chmod a+r sechm -R && F:\biocbuild\bbs-3.17-bioc\R\bin\R.exe CMD build --keep-empty-dirs --no-resave-data sechm StartedAt: 2023-10-15 22:16:17 -0400 (Sun, 15 Oct 2023) EndedAt: 2023-10-15 22:17:27 -0400 (Sun, 15 Oct 2023) EllapsedTime: 70.0 seconds RetCode: 0 Status: OK PackageFile: sechm_1.8.0.tar.gz PackageFileSize: 568.2 KiB