Package: sechm Version: 1.8.0 Command: /Library/Frameworks/R.framework/Resources/bin/R CMD build --keep-empty-dirs --no-resave-data sechm StartedAt: 2023-10-15 21:12:51 -0400 (Sun, 15 Oct 2023) EndedAt: 2023-10-15 21:15:19 -0400 (Sun, 15 Oct 2023) EllapsedTime: 148.7 seconds RetCode: 0 Status: OK PackageFile: sechm_1.8.0.tar.gz PackageFileSize: 1.023 MiB