git_url: https://git.bioconductor.org/packages/scds
git_branch: RELEASE_3_17
git_last_commit: f694219
git_last_commit_date: 2023-04-25 11:08:14 -0400 (Tue, 25 Apr 2023)
Package: scds
Version: 1.16.0
Maintainer: Dennis Kostka
MaintainerEmail: kostka at pitt.edu