git_url: https://git.bioconductor.org/packages/scde
git_branch: RELEASE_3_17
git_last_commit: 4c3b2db
git_last_commit_date: 2023-05-01 20:11:38 -0400 (Mon, 01 May 2023)
Package: scde
Version: 2.28.2
Maintainer: Evan Biederstedt
MaintainerEmail: evan.biederstedt at gmail.com