Package: scanMiR
Version: 1.6.0
Command: F:\biocbuild\bbs-3.17-bioc\R\bin\R.exe CMD check --no-multiarch --install=check:scanMiR.install-out.txt --library=F:\biocbuild\bbs-3.17-bioc\R\library --no-vignettes --timings scanMiR_1.6.0.tar.gz
StartedAt: 2023-10-16 06:23:49 -0400 (Mon, 16 Oct 2023)
EndedAt: 2023-10-16 06:25:46 -0400 (Mon, 16 Oct 2023)
EllapsedTime: 116.4 seconds
RetCode: 0
Status: WARNINGS
CheckDir: scanMiR.Rcheck
Warnings: 1