Package: scanMiR
Version: 1.6.0
Command: rm -rf scanMiR.buildbin-libdir && mkdir scanMiR.buildbin-libdir && F:\biocbuild\bbs-3.17-bioc\R\bin\R.exe CMD INSTALL --build --library=scanMiR.buildbin-libdir scanMiR_1.6.0.tar.gz
StartedAt: 2023-10-16 09:28:14 -0400 (Mon, 16 Oct 2023)
EndedAt: 2023-10-16 09:28:38 -0400 (Mon, 16 Oct 2023)
EllapsedTime: 23.1 seconds
RetCode: 0
Status: OK
PackageFile: scanMiR_1.6.0.zip
PackageFileSize: 856.6 <A href="http://en.wikipedia.org/wiki/KiB" target="_blank">KiB</A>