Package: scanMiR
Version: 1.6.0
Command: /home/biocbuild/bbs-3.17-bioc/R/bin/R CMD INSTALL scanMiR
StartedAt: 2023-10-15 15:18:37 -0400 (Sun, 15 Oct 2023)
EndedAt: 2023-10-15 15:18:52 -0400 (Sun, 15 Oct 2023)
EllapsedTime: 15.6 seconds
RetCode: 0
Status: OK