Package: scanMiR Version: 1.6.0 Command: /home/biocbuild/bbs-3.17-bioc/R/bin/R CMD check --install=check:scanMiR.install-out.txt --library=/home/biocbuild/bbs-3.17-bioc/R/site-library --timings scanMiR_1.6.0.tar.gz StartedAt: 2023-10-16 00:44:48 -0400 (Mon, 16 Oct 2023) EndedAt: 2023-10-16 00:46:51 -0400 (Mon, 16 Oct 2023) EllapsedTime: 123.6 seconds RetCode: 0 Status: WARNINGS CheckDir: scanMiR.Rcheck Warnings: 1