Package: scanMiR
Version: 1.6.0
Command: /home/biocbuild/bbs-3.17-bioc/R/bin/R CMD build --keep-empty-dirs --no-resave-data scanMiR
StartedAt: 2023-10-15 18:21:23 -0400 (Sun, 15 Oct 2023)
EndedAt: 2023-10-15 18:21:48 -0400 (Sun, 15 Oct 2023)
EllapsedTime: 24.2 seconds
RetCode: 0
Status: OK
PackageFile: scanMiR_1.6.0.tar.gz
PackageFileSize: 625.8 <A href="http://en.wikipedia.org/wiki/KiB" target="_blank">KiB</A>