Package: scTreeViz Version: 1.6.0 Command: /Library/Frameworks/R.framework/Resources/bin/R CMD check --install=check:scTreeViz.install-out.txt --library=/Library/Frameworks/R.framework/Resources/library --no-vignettes --timings scTreeViz_1.6.0.tar.gz StartedAt: 2023-10-16 06:54:10 -0400 (Mon, 16 Oct 2023) EndedAt: 2023-10-16 07:13:23 -0400 (Mon, 16 Oct 2023) EllapsedTime: 1152.7 seconds RetCode: 0 Status: OK CheckDir: scTreeViz.Rcheck Warnings: 0