Package: scTreeViz Version: 1.6.0 Command: /Library/Frameworks/R.framework/Resources/bin/R CMD build --keep-empty-dirs --no-resave-data scTreeViz StartedAt: 2023-10-15 21:11:37 -0400 (Sun, 15 Oct 2023) EndedAt: 2023-10-15 21:19:00 -0400 (Sun, 15 Oct 2023) EllapsedTime: 443.4 seconds RetCode: 0 Status: OK PackageFile: scTreeViz_1.6.0.tar.gz PackageFileSize: 2.297 MiB