git_url: https://git.bioconductor.org/packages/scShapes
git_branch: RELEASE_3_17
git_last_commit: ef47e5d
git_last_commit_date: 2023-04-25 11:31:23 -0400 (Tue, 25 Apr 2023)
Package: scShapes
Version: 1.6.0
Maintainer: Malindrie Dharmaratne
MaintainerEmail: malindrie at gmail.com