git_url: https://git.bioconductor.org/packages/scAnnotatR
git_branch: RELEASE_3_17
git_last_commit: b567a90
git_last_commit_date: 2023-04-25 11:32:25 -0400 (Tue, 25 Apr 2023)
Package: scAnnotatR
Version: 1.6.0
Maintainer: Johannes Griss
MaintainerEmail: johannes.griss at meduniwien.ac.at