Package: sangerseqR Version: 1.36.0 Command: rm -rf sangerseqR.buildbin-libdir && mkdir sangerseqR.buildbin-libdir && F:\biocbuild\bbs-3.17-bioc\R\bin\R.exe CMD INSTALL --build --library=sangerseqR.buildbin-libdir sangerseqR_1.36.0.tar.gz StartedAt: 2023-10-16 09:27:52 -0400 (Mon, 16 Oct 2023) EndedAt: 2023-10-16 09:28:18 -0400 (Mon, 16 Oct 2023) EllapsedTime: 25.9 seconds RetCode: 0 Status: OK PackageFile: sangerseqR_1.36.0.zip PackageFileSize: 1.902 MiB