Package: sangerseqR Version: 1.36.0 Command: /home/biocbuild/bbs-3.17-bioc/R/bin/R CMD check --install=check:sangerseqR.install-out.txt --library=/home/biocbuild/bbs-3.17-bioc/R/site-library --timings sangerseqR_1.36.0.tar.gz StartedAt: 2023-10-16 00:43:13 -0400 (Mon, 16 Oct 2023) EndedAt: 2023-10-16 00:45:29 -0400 (Mon, 16 Oct 2023) EllapsedTime: 135.9 seconds RetCode: 0 Status: OK CheckDir: sangerseqR.Rcheck Warnings: 0