Package: sangerseqR
Version: 1.36.0
Command: /Library/Frameworks/R.framework/Resources/bin/R CMD check --install=check:sangerseqR.install-out.txt --library=/Library/Frameworks/R.framework/Resources/library --no-vignettes --timings sangerseqR_1.36.0.tar.gz
StartedAt: 2023-10-16 06:32:33 -0400 (Mon, 16 Oct 2023)
EndedAt: 2023-10-16 06:38:00 -0400 (Mon, 16 Oct 2023)
EllapsedTime: 327.2 seconds
RetCode: 0
Status: OK
CheckDir: sangerseqR.Rcheck
Warnings: 0