Package: sangerseqR Version: 1.36.0 Command: /Library/Frameworks/R.framework/Resources/bin/R CMD build --keep-empty-dirs --no-resave-data sangerseqR StartedAt: 2023-10-15 20:55:32 -0400 (Sun, 15 Oct 2023) EndedAt: 2023-10-15 20:57:01 -0400 (Sun, 15 Oct 2023) EllapsedTime: 88.5 seconds RetCode: 0 Status: OK PackageFile: sangerseqR_1.36.0.tar.gz PackageFileSize: 2.851 MiB