git_url: https://git.bioconductor.org/packages/sangeranalyseR git_branch: RELEASE_3_17 git_last_commit: faf3054 git_last_commit_date: 2023-04-25 11:18:28 -0400 (Tue, 25 Apr 2023) Package: sangeranalyseR Version: 1.10.0 Maintainer: Kuan-Hao Chao MaintainerEmail: ntueeb05howard at gmail.com