git_url: https://git.bioconductor.org/packages/sagenhaft
git_branch: RELEASE_3_17
git_last_commit: 668c998
git_last_commit_date: 2023-04-25 09:41:17 -0400 (Tue, 25 Apr 2023)
Package: sagenhaft
Version: 1.70.0
Maintainer: Tim Beissbarth
MaintainerEmail: tim.beissbarth at bioinf.med.uni-goettingen.de