Package: safe
Version: 3.40.1
Command: /home/biocbuild/bbs-3.17-bioc/R/bin/R CMD INSTALL safe
StartedAt: 2023-10-15 15:18:55 -0400 (Sun, 15 Oct 2023)
EndedAt: 2023-10-15 15:19:11 -0400 (Sun, 15 Oct 2023)
EllapsedTime: 15.1 seconds
RetCode: 0
Status: OK