Package: safe
Version: 3.40.1
Command: /home/biocbuild/bbs-3.17-bioc/R/bin/R CMD check --install=check:safe.install-out.txt --library=/home/biocbuild/bbs-3.17-bioc/R/site-library --timings safe_3.40.1.tar.gz
StartedAt: 2023-10-16 00:42:28 -0400 (Mon, 16 Oct 2023)
EndedAt: 2023-10-16 00:52:32 -0400 (Mon, 16 Oct 2023)
EllapsedTime: 604.1 seconds
RetCode: 0
Status: OK
CheckDir: safe.Rcheck
Warnings: 0