git_url: https://git.bioconductor.org/packages/rqt
git_branch: RELEASE_3_17
git_last_commit: 17ff360
git_last_commit_date: 2023-04-25 10:52:45 -0400 (Tue, 25 Apr 2023)
Package: rqt
Version: 1.26.0
Maintainer: Ilya Y. Zhbannikov
MaintainerEmail: ilya.zhbannikov at duke.edu