git_url: https://git.bioconductor.org/packages/rpx
git_branch: RELEASE_3_17
git_last_commit: d6122c0
git_last_commit_date: 2023-10-04 12:23:41 -0400 (Wed, 04 Oct 2023)
Package: rpx
Version: 2.8.1
Maintainer: Laurent Gatto
MaintainerEmail: laurent.gatto at uclouvain.be