git_url: https://git.bioconductor.org/packages/ropls
git_branch: RELEASE_3_17
git_last_commit: 6062224
git_last_commit_date: 2023-04-25 10:40:28 -0400 (Tue, 25 Apr 2023)
Package: ropls
Version: 1.32.0
Maintainer: Etienne A. Thevenot
MaintainerEmail: etienne.thevenot at cea.fr