git_url: https://git.bioconductor.org/packages/rnaseqcomp
git_branch: RELEASE_3_17
git_last_commit: da1989c
git_last_commit_date: 2023-04-25 10:40:21 -0400 (Tue, 25 Apr 2023)
Package: rnaseqcomp
Version: 1.30.0
Maintainer: Mingxiang Teng
MaintainerEmail: tengmx at gmail.com