git_url: https://git.bioconductor.org/packages/rmelting
git_branch: RELEASE_3_17
git_last_commit: b45d28b
git_last_commit_date: 2023-04-25 11:07:44 -0400 (Tue, 25 Apr 2023)
Package: rmelting
Version: 1.16.0
Maintainer: J. Aravind
MaintainerEmail: j.aravind at icar.gov.in