git_url: https://git.bioconductor.org/packages/rifi
git_branch: RELEASE_3_17
git_last_commit: 221a06e
git_last_commit_date: 2023-04-28 06:21:36 -0400 (Fri, 28 Apr 2023)
Package: rifi
Version: 1.4.1
Maintainer: Jens Georg
MaintainerEmail: jens.georg at biologie.uni-freiburg.de