Package: rfPred
Version: 1.38.0
Command: /home/biocbuild/bbs-3.17-bioc/R/bin/R CMD INSTALL rfPred
StartedAt: 2023-10-15 15:17:21 -0400 (Sun, 15 Oct 2023)
EndedAt: 2023-10-15 15:17:33 -0400 (Sun, 15 Oct 2023)
EllapsedTime: 11.9 seconds
RetCode: 0
Status: OK