Package: rfPred
Version: 1.38.0
Command: /home/biocbuild/bbs-3.17-bioc/R/bin/R CMD check --install=check:rfPred.install-out.txt --library=/home/biocbuild/bbs-3.17-bioc/R/site-library --timings rfPred_1.38.0.tar.gz
StartedAt: 2023-10-16 00:23:01 -0400 (Mon, 16 Oct 2023)
EndedAt: 2023-10-16 00:24:39 -0400 (Mon, 16 Oct 2023)
EllapsedTime: 97.6 seconds
RetCode: 0
Status: OK
CheckDir: rfPred.Rcheck
Warnings: 0