Package: rfPred
Version: 1.38.0
Command: /home/biocbuild/bbs-3.17-bioc/R/bin/R CMD build --keep-empty-dirs --no-resave-data rfPred
StartedAt: 2023-10-15 18:11:03 -0400 (Sun, 15 Oct 2023)
EndedAt: 2023-10-15 18:11:21 -0400 (Sun, 15 Oct 2023)
EllapsedTime: 17.9 seconds
RetCode: 0
Status: OK
PackageFile: rfPred_1.38.0.tar.gz
PackageFileSize: 1.053 <A href="http://en.wikipedia.org/wiki/MiB" target="_blank">MiB</A>