Package: rfPred Version: 1.38.0 Command: rm -rf rfPred.buildbin-libdir && mkdir rfPred.buildbin-libdir && /Users/biocbuild/BBS/utils/build-universal.sh rfPred_1.38.0.tar.gz /Library/Frameworks/R.framework/Resources/bin/R rfPred.buildbin-libdir StartedAt: 2023-10-16 10:02:34 -0400 (Mon, 16 Oct 2023) EndedAt: 2023-10-16 10:03:20 -0400 (Mon, 16 Oct 2023) EllapsedTime: 45.9 seconds RetCode: 0 Status: OK PackageFile: rfPred_1.38.0.tgz PackageFileSize: 1.076 MiB