git_url: https://git.bioconductor.org/packages/randPack
git_branch: RELEASE_3_17
git_last_commit: c9c1228
git_last_commit_date: 2023-04-25 10:20:05 -0400 (Tue, 25 Apr 2023)
Package: randPack
Version: 1.46.0
Maintainer: Robert Gentleman
MaintainerEmail: rgentlem at gmail.com