Package: rGADEM
Version: 2.48.0
Command: /home/biocbuild/bbs-3.17-bioc/R/bin/R CMD INSTALL rGADEM
StartedAt: 2023-10-15 15:21:08 -0400 (Sun, 15 Oct 2023)
EndedAt: 2023-10-15 15:21:46 -0400 (Sun, 15 Oct 2023)
EllapsedTime: 38.4 seconds
RetCode: 0
Status: OK